BEGIN:VCALENDAR
VERSION:2.0
PRODID:-//wp-events-plugin.com//7.2.3.1//EN
TZID:America/Denver
X-WR-TIMEZONE:America/Denver
BEGIN:VEVENT
UID:1768@krystal93.com
DTSTART;TZID=America/Denver:20251214T100000
DTEND;TZID=America/Denver:20251214T120000
DTSTAMP:20251202T134746Z
URL:https://krystal93.com/events/building-hope-family-day-horse-center/
SUMMARY:Building Hope - Family Day - Horse Center
DESCRIPTION:SUNDAY\, DECEMBER 14\, 2025\n\nFamily Day at Summit Valley Hors
 e Center\n\n10:00 am - 12:00 pm / Silverthorne\n\nBring your family to the
  Summit Valley Horse Center and learn about the connection between humans 
 and horses! This event is intended for Summit County residents only\, Ages
  12-18. Event Facilitated in English.\n\n&nbsp\;\n\n Go to BuildingHopeSum
 mit.org to sign up. Krystal Media Supports the Summit. 
CATEGORIES:Building Hope Summit County
END:VEVENT
BEGIN:VTIMEZONE
TZID:America/Denver
X-LIC-LOCATION:America/Denver
BEGIN:STANDARD
DTSTART:20251102T010000
TZOFFSETFROM:-0600
TZOFFSETTO:-0700
TZNAME:MST
END:STANDARD
END:VTIMEZONE
END:VCALENDAR