BEGIN:VCALENDAR
VERSION:2.0
PRODID:-//wp-events-plugin.com//7.2.3.1//EN
TZID:America/Denver
X-WR-TIMEZONE:America/Denver
BEGIN:VEVENT
UID:1763@krystal93.com
DTSTART;TZID=America/Denver:20251218T000000
DTEND;TZID=America/Denver:20251220T000000
DTSTAMP:20251202T134314Z
URL:https://krystal93.com/events/building-hope-family-game-night/
SUMMARY:Building Hope - Family Game Night
DESCRIPTION:Join Building Hope Summit County for Family Game Night December
  4 from 5pm to 7pm in Silverthorne. There’ll be lots of laughter\, fa
 mily competition and games for the whole family. Go to BuildingHopeSumm
 it.org to sign up. Krystal Media Supports the Summit. 
CATEGORIES:Building Hope Summit County
END:VEVENT
BEGIN:VTIMEZONE
TZID:America/Denver
X-LIC-LOCATION:America/Denver
BEGIN:STANDARD
DTSTART:20251102T010000
TZOFFSETFROM:-0600
TZOFFSETTO:-0700
TZNAME:MST
END:STANDARD
END:VTIMEZONE
END:VCALENDAR