BEGIN:VCALENDAR
VERSION:2.0
PRODID:-//wp-events-plugin.com//7.2.3.1//EN
TZID:America/Denver
X-WR-TIMEZONE:America/Denver
BEGIN:VEVENT
UID:1714@krystal93.com
DTSTART;TZID=America/Denver:20250930T130000
DTEND;TZID=America/Denver:20250930T150000
DTSTAMP:20250829T150713Z
URL:https://krystal93.com/events/building-hope-family-hike/
SUMMARY:Building Hope - Family Hike
DESCRIPTION:TUESDAY\, SEPTEMBER 30\, 2025\n\nFamily Mindfulness Hike\n\n1:0
 0 pm- 3:00 pm / Dillon\n\nEnjoy the beauty of our county and immerse yours
 elf in the healing powers of nature on a two-hour mindfulness hike with yo
 ur family\, led by Leslie Glenn. No childcare or supervision of children i
 s being provided. This event is intended for Summit County residents only.
  Event Facilitated in English.
CATEGORIES:Building Hope Summit County
END:VEVENT
BEGIN:VTIMEZONE
TZID:America/Denver
X-LIC-LOCATION:America/Denver
BEGIN:DAYLIGHT
DTSTART:20250309T030000
TZOFFSETFROM:-0700
TZOFFSETTO:-0600
TZNAME:MDT
END:DAYLIGHT
END:VTIMEZONE
END:VCALENDAR