BEGIN:VCALENDAR
VERSION:2.0
PRODID:-//wp-events-plugin.com//7.2.3.1//EN
TZID:America/Denver
X-WR-TIMEZONE:America/Denver
BEGIN:VEVENT
UID:1392@krystal93.com
DTSTART;TZID=America/Denver:20250227T170000
DTEND;TZID=America/Denver:20250227T190000
DTSTAMP:20250203T152012Z
URL:https://krystal93.com/events/building-hope-game-night-12-18/
SUMMARY:Building Hope - Game Night (12-18)
DESCRIPTION:THURSDAY\, FEBRUARY 27\, 2025 \n\nGAME NIGHT AT HIDDEN TABLE GA
 MES \n\nAGES 12-18 5-7 pm / Silverthorne \n\nJoin Building Hope and the HY
 PE at “Hidden Table Games” for a community event Experience interactiv
 e fantasy and mystery table games with buildable kits like Dungeons and Dr
 agons\, “Magic the Gathering”\, “Pokemon” and much more. You can b
 ring your food and drink and enjoy imaginative board gaming in a state-of-
 the-art facility and let your \n\nFor more information: Building Hope Summ
 it County
CATEGORIES:Building Hope Summit County
END:VEVENT
BEGIN:VTIMEZONE
TZID:America/Denver
X-LIC-LOCATION:America/Denver
BEGIN:STANDARD
DTSTART:20241103T010000
TZOFFSETFROM:-0600
TZOFFSETTO:-0700
TZNAME:MST
END:STANDARD
END:VTIMEZONE
END:VCALENDAR