BEGIN:VCALENDAR
VERSION:2.0
PRODID:-//wp-events-plugin.com//7.2.3.1//EN
TZID:America/Denver
X-WR-TIMEZONE:America/Denver
BEGIN:VEVENT
UID:1711@krystal93.com
DTSTART;TZID=America/Denver:20250925T190000
DTEND;TZID=America/Denver:20250925T203000
DTSTAMP:20250829T150351Z
URL:https://krystal93.com/events/building-hope-inner-wellness-path/
SUMMARY:Building Hope - Inner Wellness Path
DESCRIPTION:THURSDAY\, SEPTEMBER 25\, 2025\n\nThe Inner Wellness Path: Spir
 itual &amp\; Purposeful Healing (Bilingual)\n\n7:00 pm- 8:30 pm / Frisco\n
 \nA transformative journey to reconnect with your mind\, body\, and spirit
  —and reclaim the most powerful version of you. This event is intended f
 or Summit County residents only. Event Facilitated in English and Spanish.
CATEGORIES:Building Hope Summit County
END:VEVENT
BEGIN:VTIMEZONE
TZID:America/Denver
X-LIC-LOCATION:America/Denver
BEGIN:DAYLIGHT
DTSTART:20250309T030000
TZOFFSETFROM:-0700
TZOFFSETTO:-0600
TZNAME:MDT
END:DAYLIGHT
END:VTIMEZONE
END:VCALENDAR