BEGIN:VCALENDAR
VERSION:2.0
PRODID:-//wp-events-plugin.com//7.2.3.1//EN
TZID:America/Denver
X-WR-TIMEZONE:America/Denver
BEGIN:VEVENT
UID:1767@krystal93.com
DTSTART;TZID=America/Denver:20251213T100000
DTEND;TZID=America/Denver:20251213T120000
DTSTAMP:20251202T134659Z
URL:https://krystal93.com/events/building-hope-merry-hoop-ornaments/
SUMMARY:Building Hope - Merry Hoop Ornaments
DESCRIPTION:SATURDAY\, DECEMBER 13\, 2025\n\nMerry Hoop Ornaments | Ages 12
 -18 (Bilingual)\n\n10:00 am - 12:00 pm / Silverthorne\n\nJoin the HYPE and
  create a beautiful Christmas ornament with upcycled materials and an embr
 oidered wooden hoop. This event is intended for Summit County residents on
 ly. Ages 12-18. Event Facilitated in English and Spanish.\n\n&nbsp\;\n\n G
 o to BuildingHopeSummit.org to sign up. Krystal Media Supports the Summit
 . 
CATEGORIES:Building Hope Summit County
END:VEVENT
BEGIN:VTIMEZONE
TZID:America/Denver
X-LIC-LOCATION:America/Denver
BEGIN:STANDARD
DTSTART:20251102T010000
TZOFFSETFROM:-0600
TZOFFSETTO:-0700
TZNAME:MST
END:STANDARD
END:VTIMEZONE
END:VCALENDAR