BEGIN:VCALENDAR
VERSION:2.0
PRODID:-//wp-events-plugin.com//7.2.3.1//EN
TZID:America/Denver
X-WR-TIMEZONE:America/Denver
BEGIN:VEVENT
UID:1388@krystal93.com
DTSTART;TZID=America/Denver:20250218T180000
DTEND;TZID=America/Denver:20250218T193000
DTSTAMP:20250203T151454Z
URL:https://krystal93.com/events/building-hope-parent-connection/
SUMMARY:Building Hope - Parent Connection
DESCRIPTION:TUESDAY\, FEBRUARY 18\, 2025\n\n PARENT CONNECTION EVENT AT MOU
 NTAINTOP EXPLORIUM \n\n6-7:30 pm / Breckenridge \n\nIn partnership with Mo
 untain Top Explorium - connect with other local parents while your kids ha
 ve fun at the Explorium! The staff at the Explorium will have an engaging 
 and fun activity to do with your kids (ages 2 and up) while you get some m
 uch-deserved time to enjoy dinner and socialize. This event is intended fo
 r Summit County residents only. Event Facilitated in English.For more info
 rmation: Building Hope Summit County
CATEGORIES:Building Hope Summit County
END:VEVENT
BEGIN:VTIMEZONE
TZID:America/Denver
X-LIC-LOCATION:America/Denver
BEGIN:STANDARD
DTSTART:20241103T010000
TZOFFSETFROM:-0600
TZOFFSETTO:-0700
TZNAME:MST
END:STANDARD
END:VTIMEZONE
END:VCALENDAR