BEGIN:VCALENDAR
VERSION:2.0
PRODID:-//wp-events-plugin.com//7.2.3.1//EN
TZID:America/Denver
X-WR-TIMEZONE:America/Denver
BEGIN:VEVENT
UID:1389@krystal93.com
DTSTART;TZID=America/Denver:20250219T183000
DTEND;TZID=America/Denver:20250219T193000
DTSTAMP:20250203T151554Z
URL:https://krystal93.com/events/building-hope-pfx/
SUMMARY:Building Hope - PFX
DESCRIPTION:WEDNESDAY\, FEBRUARY 19\, 2025\n\nPFX: A PSYCHOLOGY-FITNESS EXP
 ERIENCE\n\n6:30-7:30 pm / Silverthorne\n\nA revolutionary group fitness cl
 ass that combines psychology and neuroscience training with a HIIT workout
 \, breathwork\, and meditation. Event Facilitated in English.\n\nFor more 
 information: Building Hope Summit County
CATEGORIES:Building Hope Summit County
END:VEVENT
BEGIN:VTIMEZONE
TZID:America/Denver
X-LIC-LOCATION:America/Denver
BEGIN:STANDARD
DTSTART:20241103T010000
TZOFFSETFROM:-0600
TZOFFSETTO:-0700
TZNAME:MST
END:STANDARD
END:VTIMEZONE
END:VCALENDAR