BEGIN:VCALENDAR
VERSION:2.0
PRODID:-//wp-events-plugin.com//7.2.3.1//EN
TZID:America/Denver
X-WR-TIMEZONE:America/Denver
BEGIN:VEVENT
UID:1720@krystal93.com
DTSTART;TZID=America/Denver:20251017T180000
DTEND;TZID=America/Denver:20251017T193000
DTSTAMP:20250929T160931Z
URL:https://krystal93.com/events/building-hope-salsa-dancing/
SUMMARY:Building Hope -  Salsa Dancing
DESCRIPTION:THURSDAY\, OCTOBER 17\, 2025\n\nSalsa Dance Class (Bilingual)\n
 \n6:00pm - 7:30pm / Frisco\n\nBring the whole family and let’s salsa! No
  dance experience needed—just come ready to have fun\, move to the music
 \, and enjoy time together. No childcare or supervision of children is bei
 ng provided. This event is intended for Summit County residents only. Even
 t Facilitated in English and Spanish.
CATEGORIES:Building Hope Summit County
END:VEVENT
BEGIN:VTIMEZONE
TZID:America/Denver
X-LIC-LOCATION:America/Denver
BEGIN:DAYLIGHT
DTSTART:20250309T030000
TZOFFSETFROM:-0700
TZOFFSETTO:-0600
TZNAME:MDT
END:DAYLIGHT
END:VTIMEZONE
END:VCALENDAR