BEGIN:VCALENDAR
VERSION:2.0
PRODID:-//wp-events-plugin.com//7.2.3.1//EN
TZID:America/Denver
X-WR-TIMEZONE:America/Denver
BEGIN:VEVENT
UID:1723@krystal93.com
DTSTART;TZID=America/Denver:20251028T173000
DTEND;TZID=America/Denver:20251028T193000
DTSTAMP:20250929T161400Z
URL:https://krystal93.com/events/building-hope-sound-healing-2/
SUMMARY:Building Hope -  Indoor Rock Climbing
DESCRIPTION:TUESDAY\, OCTOBER 28\, 2025\n\nIndoor Rock Climbing at the Rec 
 Center\, Ages 12-18\n\n5:30pm - 7:30pm / Breckenridge\n\nJoin the HYPE at 
 the Breckenridge Recreation Center and get on the climbing wall with your 
 friends! This event is intended for Summit County residents only. Ages 12-
 18. Event Facilitated in English.
CATEGORIES:Building Hope Summit County
END:VEVENT
BEGIN:VTIMEZONE
TZID:America/Denver
X-LIC-LOCATION:America/Denver
BEGIN:DAYLIGHT
DTSTART:20250309T030000
TZOFFSETFROM:-0700
TZOFFSETTO:-0600
TZNAME:MDT
END:DAYLIGHT
END:VTIMEZONE
END:VCALENDAR