BEGIN:VCALENDAR
VERSION:2.0
PRODID:-//wp-events-plugin.com//7.2.3.1//EN
TZID:America/Denver
X-WR-TIMEZONE:America/Denver
BEGIN:VEVENT
UID:1722@krystal93.com
DTSTART;TZID=America/Denver:20251023T180000
DTEND;TZID=America/Denver:20251023T190000
DTSTAMP:20250929T161116Z
URL:https://krystal93.com/events/building-hope-sound-healing/
SUMMARY:Building Hope -  Sound Healing
DESCRIPTION:THURSDAY\, OCTOBER 23\, 2025\n\nSound Healing\n\n6:00pm - 7:00p
 m / Silverthorne\n\nLed by EJ\, let the sound waves wash over you in this 
 relaxing Sound Bath experience. This event is intended for Summit County r
 esidents only. Event Facilitated in English.
CATEGORIES:Building Hope Summit County
END:VEVENT
BEGIN:VTIMEZONE
TZID:America/Denver
X-LIC-LOCATION:America/Denver
BEGIN:DAYLIGHT
DTSTART:20250309T030000
TZOFFSETFROM:-0700
TZOFFSETTO:-0600
TZNAME:MDT
END:DAYLIGHT
END:VTIMEZONE
END:VCALENDAR