BEGIN:VCALENDAR
VERSION:2.0
PRODID:-//wp-events-plugin.com//7.2.3.1//EN
TZID:America/Denver
X-WR-TIMEZONE:America/Denver
BEGIN:VEVENT
UID:1237@krystal93.com
DTSTART;TZID=America/Denver:20241109T160000
DTEND;TZID=America/Denver:20241109T180000
DTSTAMP:20241101T164015Z
URL:https://krystal93.com/events/building-hope-summit-county-art-spot/
SUMMARY:Building Hope Summit County - Art Spot
DESCRIPTION:SATURDAY\, NOVEMBER 9\n\n4:00 pm-6:00 pm\n\nART SPOT TEEN ART\n
 \nSilverthorne Join Building Hope &amp\; Art Spot for a fun workshop\, thi
 s is a great opportunity to create your works of art and practice some abi
 lities. Using sublimation techniques and acrylic paints\, with the help of
  Simple Art Studio you will decorate your own trucker hat. Open to Summit 
 County Residents Ages 12-18.\n\nEvent Facilitated in English and Spanish. 
 Go to buildinghopesummit.org for more information.
CATEGORIES:Building Hope Summit County
END:VEVENT
BEGIN:VTIMEZONE
TZID:America/Denver
X-LIC-LOCATION:America/Denver
BEGIN:STANDARD
DTSTART:20241103T010000
TZOFFSETFROM:-0600
TZOFFSETTO:-0700
TZNAME:MST
END:STANDARD
END:VTIMEZONE
END:VCALENDAR