BEGIN:VCALENDAR
VERSION:2.0
PRODID:-//wp-events-plugin.com//7.2.3.1//EN
TZID:America/Denver
X-WR-TIMEZONE:America/Denver
BEGIN:VEVENT
UID:1238@krystal93.com
DTSTART;TZID=America/Denver:20241111T183000
DTEND;TZID=America/Denver:20241111T193000
DTSTAMP:20241101T164114Z
URL:https://krystal93.com/events/building-hope-summit-county-pfx/
SUMMARY:Building Hope Summit County - PFX
DESCRIPTION:MONDAY\, NOVEMBER 11\n\n6:30 pm-7:30 pm\n\nPFX: A PSYCHOLOGY-FI
 TNESS EXPERIENCE. Silverthorne A revolutionary group fitness class that co
 mbines psychology and neuroscience training with a HIIT workout\, breathwo
 rk\, and meditation.\n\nEvent Facilitated in English. Go to buildinghopesu
 mmit.org for more information.
CATEGORIES:Building Hope Summit County
END:VEVENT
BEGIN:VTIMEZONE
TZID:America/Denver
X-LIC-LOCATION:America/Denver
BEGIN:STANDARD
DTSTART:20241103T010000
TZOFFSETFROM:-0600
TZOFFSETTO:-0700
TZNAME:MST
END:STANDARD
END:VTIMEZONE
END:VCALENDAR