BEGIN:VCALENDAR
VERSION:2.0
PRODID:-//wp-events-plugin.com//7.2.3.1//EN
TZID:America/Denver
X-WR-TIMEZONE:America/Denver
BEGIN:VEVENT
UID:1239@krystal93.com
DTSTART;TZID=America/Denver:20241112T173000
DTEND;TZID=America/Denver:20241112T193000
DTSTAMP:20241101T164210Z
URL:https://krystal93.com/events/building-hope-summit-county-rock-climbing
 /
SUMMARY:Building Hope Summit County - Rock Climbing
DESCRIPTION:TUESDAY\, NOVEMBER 12\n\n5:30 pm-7:30 pm\n\nINDOOR ROCK CLIMBIN
 G\n\nBreckenridge Join the HYPE at the Breckenridge and get on the wall wi
 th your friends!\n\nOpen to Summit County Residents Ages 12-18\n\nEvent Fa
 cilitated in English. Go to buildinghopesummit.org for more information.
CATEGORIES:Building Hope Summit County
END:VEVENT
BEGIN:VTIMEZONE
TZID:America/Denver
X-LIC-LOCATION:America/Denver
BEGIN:STANDARD
DTSTART:20241103T010000
TZOFFSETFROM:-0600
TZOFFSETTO:-0700
TZNAME:MST
END:STANDARD
END:VTIMEZONE
END:VCALENDAR