BEGIN:VCALENDAR
VERSION:2.0
PRODID:-//wp-events-plugin.com//7.2.3.1//EN
TZID:America/Denver
X-WR-TIMEZONE:America/Denver
BEGIN:VEVENT
UID:1721@krystal93.com
DTSTART;TZID=America/Denver:20251018T100000
DTEND;TZID=America/Denver:20251018T120000
DTSTAMP:20250929T161032Z
URL:https://krystal93.com/events/building-hope-summit-valley-horse-center/
SUMMARY:Building Hope -  Summit Valley Horse Center
DESCRIPTION:SATURDAY\, OCTOBER 18\, 2025\n\nDay at Summit Valley Horse Cent
 er Ages 12-18\n\n10:00am- 12:00pm / Silverthorne\n\nJoin the HYPE for a da
 y at the Summit Valley Horse Center and learn about the connection between
  humans and horses! This event is intended for Summit County residents onl
 y Ages 12-18. Event Facilitated in English.
CATEGORIES:Building Hope Summit County
END:VEVENT
BEGIN:VTIMEZONE
TZID:America/Denver
X-LIC-LOCATION:America/Denver
BEGIN:DAYLIGHT
DTSTART:20250309T030000
TZOFFSETFROM:-0700
TZOFFSETTO:-0600
TZNAME:MDT
END:DAYLIGHT
END:VTIMEZONE
END:VCALENDAR