BEGIN:VCALENDAR
VERSION:2.0
PRODID:-//wp-events-plugin.com//7.2.3.1//EN
TZID:America/Denver
X-WR-TIMEZONE:America/Denver
BEGIN:VEVENT
UID:1769@krystal93.com
DTSTART;TZID=America/Denver:20251217T170000
DTEND;TZID=America/Denver:20251217T183000
DTSTAMP:20251202T134835Z
URL:https://krystal93.com/events/building-hope-tai-chi-2/
SUMMARY:Building Hope - Tai Chi
DESCRIPTION:WEDNESDAY\, DECEMBER 17\, 2025\n\nTai Chi Class\n\n5:00 pm - 06
 :30 pm / Silverthorne\n\nThis class offers a gentle pause through slow\, f
 lowing movements and mindful breathing. This event is intended for Summit 
 County residents only. Event Facilitated in English.\n\n&nbsp\;\n\n Go to 
 BuildingHopeSummit.org to sign up. Krystal Media Supports the Summit. 
CATEGORIES:Building Hope Summit County
END:VEVENT
BEGIN:VTIMEZONE
TZID:America/Denver
X-LIC-LOCATION:America/Denver
BEGIN:STANDARD
DTSTART:20251102T010000
TZOFFSETFROM:-0600
TZOFFSETTO:-0700
TZNAME:MST
END:STANDARD
END:VTIMEZONE
END:VCALENDAR