BEGIN:VCALENDAR
VERSION:2.0
PRODID:-//wp-events-plugin.com//7.2.3.1//EN
TZID:America/Denver
X-WR-TIMEZONE:America/Denver
BEGIN:VEVENT
UID:1716@krystal93.com
DTSTART;TZID=America/Denver:20251007T170000
DTEND;TZID=America/Denver:20251007T190000
DTSTAMP:20250929T160557Z
URL:https://krystal93.com/events/building-hope-tai-chi/
SUMMARY:Building Hope - Tai Chi
DESCRIPTION:TUESDAY\, OCTOBER 7\, 2025\n\nTai Chi Class 5:00pm - 6:30pm\n\n
 Silverthorne\n\nThis class offers a gentle pause through slow\, flowing mo
 vements and mindful breathing. This event is intended for Summit County re
 sidents only. Event Facilitated in English.
CATEGORIES:Building Hope Summit County
END:VEVENT
BEGIN:VTIMEZONE
TZID:America/Denver
X-LIC-LOCATION:America/Denver
BEGIN:DAYLIGHT
DTSTART:20250309T030000
TZOFFSETFROM:-0700
TZOFFSETTO:-0600
TZNAME:MDT
END:DAYLIGHT
END:VTIMEZONE
END:VCALENDAR