BEGIN:VCALENDAR
VERSION:2.0
PRODID:-//wp-events-plugin.com//7.2.3.1//EN
TZID:America/Denver
X-WR-TIMEZONE:America/Denver
BEGIN:VEVENT
UID:1770@krystal93.com
DTSTART;TZID=America/Denver:20251220T140000
DTEND;TZID=America/Denver:20251220T153000
DTSTAMP:20251202T134920Z
URL:https://krystal93.com/events/building-hope-teen-mindfulness-snowshoe/
SUMMARY:Building Hope - Teen Mindfulness Snowshoe
DESCRIPTION:SATURDAY\, DECEMBER 20\, 2025\n\nTeen Mindfulness Snowshoe with
  Leslie Glenn | Ages 12-18\n\n2:00 pm - 3:30 pm / Breckenridge\n\nEnjoy th
 e beauty of our county and immerse yourself in the healing powers of natur
 e on this excursion. This event is intended for Summit County residents on
 ly. Ages 12-18. Event Facilitated in English.\n\n&nbsp\;\n\n Go to Buildin
 gHopeSummit.org to sign up. Krystal Media Supports the Summit. 
CATEGORIES:Building Hope Summit County
END:VEVENT
BEGIN:VTIMEZONE
TZID:America/Denver
X-LIC-LOCATION:America/Denver
BEGIN:STANDARD
DTSTART:20251102T010000
TZOFFSETFROM:-0600
TZOFFSETTO:-0700
TZNAME:MST
END:STANDARD
END:VTIMEZONE
END:VCALENDAR