BEGIN:VCALENDAR
VERSION:2.0
PRODID:-//wp-events-plugin.com//7.2.3.1//EN
TZID:America/Denver
X-WR-TIMEZONE:America/Denver
BEGIN:VEVENT
UID:1708@krystal93.com
DTSTART;TZID=America/Denver:20250913T100000
DTEND;TZID=America/Denver:20250913T133000
DTSTAMP:20250829T150020Z
URL:https://krystal93.com/events/building-hope-teen-rock-climb/
SUMMARY:Building Hope -Teen Rock Climb
DESCRIPTION:SATURDAY\, SEPTEMBER 13\, 2025\n\nTeen Rock Climb with BOEC\n\n
 10:00 am - 1:30pm. / Swan Mountain\n\nJoin the Hype and BOEC for Rock Clim
 bing at Swan Mountain. After instruction from BOEC staff\, you will spend 
 the day Rock Climbing and enjoying the views of Lake Dillon. This event is
  intended for Summit County residents only. Ages 12-18. Event Facilitated 
 in English.
CATEGORIES:Building Hope Summit County
END:VEVENT
BEGIN:VTIMEZONE
TZID:America/Denver
X-LIC-LOCATION:America/Denver
BEGIN:DAYLIGHT
DTSTART:20250309T030000
TZOFFSETFROM:-0700
TZOFFSETTO:-0600
TZNAME:MDT
END:DAYLIGHT
END:VTIMEZONE
END:VCALENDAR