BEGIN:VCALENDAR
VERSION:2.0
PRODID:-//wp-events-plugin.com//7.2.3.1//EN
TZID:America/Denver
X-WR-TIMEZONE:America/Denver
BEGIN:VEVENT
UID:1387@krystal93.com
DTSTART;TZID=America/Denver:20250207T170000
DTEND;TZID=America/Denver:20250207T180000
DTSTAMP:20250203T151334Z
URL:https://krystal93.com/events/building-hope-teen-snow-tubing/
SUMMARY:Building Hope - Teen Snow Tubing
DESCRIPTION:FRIDAY\, FEBRUARY 7\, 2025 TEEN SNOW TUBING 5-6 pm / Frisco\n\n
 Come on down to the Adventure Park for a fun evening of tubing!\n\nOpen to
  registered Summit County Residents Ages 12-18\n\nEvent Facilitated in Eng
 lish.\n\nFor more information: Building Hope Summit County
END:VEVENT
BEGIN:VTIMEZONE
TZID:America/Denver
X-LIC-LOCATION:America/Denver
BEGIN:STANDARD
DTSTART:20241103T010000
TZOFFSETFROM:-0600
TZOFFSETTO:-0700
TZNAME:MST
END:STANDARD
END:VTIMEZONE
END:VCALENDAR