BEGIN:VCALENDAR
VERSION:2.0
PRODID:-//wp-events-plugin.com//7.2.3.1//EN
TZID:America/Denver
X-WR-TIMEZONE:America/Denver
BEGIN:VEVENT
UID:1713@krystal93.com
DTSTART;TZID=America/Denver:20250928T090000
DTEND;TZID=America/Denver:20250928T120000
DTSTAMP:20250829T150606Z
URL:https://krystal93.com/events/building-hope-walk-with-hope/
SUMMARY:Building Hope - Walk with Hope
DESCRIPTION:SUNDAY\, SEPTEMBER 28TH\, 2025\n\nWalk With Hope\n\n9:00 am-12:
 00 pm / Frisco\n\nThis event welcomes anyone that has experienced a suicid
 e loss or who has been impacted by mental health struggles. Let’s come t
 ogether in remembrance to support each other and continue healing. Event F
 acilitated in English and Spanish.
CATEGORIES:Building Hope Summit County
END:VEVENT
BEGIN:VTIMEZONE
TZID:America/Denver
X-LIC-LOCATION:America/Denver
BEGIN:DAYLIGHT
DTSTART:20250309T030000
TZOFFSETFROM:-0700
TZOFFSETTO:-0600
TZNAME:MDT
END:DAYLIGHT
END:VTIMEZONE
END:VCALENDAR