BEGIN:VCALENDAR
VERSION:2.0
PRODID:-//wp-events-plugin.com//7.2.3.1//EN
TZID:America/Denver
X-WR-TIMEZONE:America/Denver
BEGIN:VEVENT
UID:1719@krystal93.com
DTSTART;TZID=America/Denver:20251012T100000
DTEND;TZID=America/Denver:20251012T123000
DTSTAMP:20250929T160825Z
URL:https://krystal93.com/events/building-hope-watercolor-painting/
SUMMARY:Building Hope -  Watercolor Painting
DESCRIPTION:SUNDAY\, OCTOBER 12\, 2025\n\nFall Landscape: Watercolor Painti
 ng Ages 12-18\n\n10:00am - 12:30pm -- Breckenridge\n\nEmbrace the unique b
 eauty of Fall in the mountains as you explore the vibrant world of waterco
 lor painting with Breck Create. This event is intended for Summit County r
 esidents only. Ages 12-18. Event Facilitated in English.
CATEGORIES:Building Hope Summit County
END:VEVENT
BEGIN:VTIMEZONE
TZID:America/Denver
X-LIC-LOCATION:America/Denver
BEGIN:DAYLIGHT
DTSTART:20250309T030000
TZOFFSETFROM:-0700
TZOFFSETTO:-0600
TZNAME:MDT
END:DAYLIGHT
END:VTIMEZONE
END:VCALENDAR