BEGIN:VCALENDAR
VERSION:2.0
PRODID:-//wp-events-plugin.com//7.2.3.1//EN
TZID:America/Denver
X-WR-TIMEZONE:America/Denver
BEGIN:VEVENT
UID:1765@krystal93.com
DTSTART;TZID=America/Denver:20251208T170000
DTEND;TZID=America/Denver:20251208T190000
DTSTAMP:20251202T134506Z
URL:https://krystal93.com/events/building-hope-wheel-throwing/
SUMMARY:Building Hope - Wheel Throwing
DESCRIPTION:MONDAY\, DECEMBER 8\, 2025\n\nWheel Throwing | Ages 12-18\n\n5:
 00 pm - 7:00 pm / Breckenridge\n\nIn this 2-hour class\, students will lea
 rn the fundamentals of throwing on the potter’s wheel\, the multi-step p
 rocess of pottery making\, and will be enabled to work and practice on the
 ir own. This event is intended for Summit County residents only. Ages 12-1
 8. Event Facilitated in English and Spanish.\n\n Go to BuildingHopeSummit.
 org to sign up. Krystal Media Supports the Summit. 
CATEGORIES:Building Hope Summit County
END:VEVENT
BEGIN:VTIMEZONE
TZID:America/Denver
X-LIC-LOCATION:America/Denver
BEGIN:STANDARD
DTSTART:20251102T010000
TZOFFSETFROM:-0600
TZOFFSETTO:-0700
TZNAME:MST
END:STANDARD
END:VTIMEZONE
END:VCALENDAR