BEGIN:VCALENDAR
VERSION:2.0
PRODID:-//wp-events-plugin.com//7.2.3.1//EN
TZID:America/Denver
X-WR-TIMEZONE:America/Denver
BEGIN:VEVENT
UID:1712@krystal93.com
DTSTART;TZID=America/Denver:20250926T173000
DTEND;TZID=America/Denver:20250926T193000
DTSTAMP:20250829T150450Z
URL:https://krystal93.com/events/building-hope-womens-mountain-biking/
SUMMARY:Building Hope - Women's Mountain Biking
DESCRIPTION:FRIDAY\, SEPTEMBER 26\, 2025\n\nWomen’s Mountain Biking with 
 The Cycle Effect (Bilingual)\n\n5:30 pm- 7:30 pm / Frisco\n\nCome mountain
  biking with us and The Cycle Effect. Some instruction and coaching will b
 e provided by the Cycle Effect coaches. This event is intended for Summit 
 County residents only. Event Facilitated in English and Spanish.
CATEGORIES:Building Hope Summit County
END:VEVENT
BEGIN:VTIMEZONE
TZID:America/Denver
X-LIC-LOCATION:America/Denver
BEGIN:DAYLIGHT
DTSTART:20250309T030000
TZOFFSETFROM:-0700
TZOFFSETTO:-0600
TZNAME:MDT
END:DAYLIGHT
END:VTIMEZONE
END:VCALENDAR