BEGIN:VCALENDAR
VERSION:2.0
PRODID:-//wp-events-plugin.com//7.2.3.1//EN
TZID:America/Denver
X-WR-TIMEZONE:America/Denver
BEGIN:VEVENT
UID:1444@krystal93.com
DTSTART;TZID=America/Denver:20250425T120000
DTEND;TZID=America/Denver:20250425T130000
DTSTAMP:20250331T142511Z
URL:https://krystal93.com/events/c-rock-friday-freebie-giveaway-4/
SUMMARY:C-Rock Friday Freebie Giveaway
DESCRIPTION:We’re going to kick off an Amazing April by bringing back our
  C-Rock 103.3 Friday Freebies! Listen over the noon hour every Friday star
 ting THIS WEEK and we’ll have some great ticket giveaways... that's Apri
 l 25th on C-Rock 103.3 over the NOON HOUR.
CATEGORIES:Tickets giveaway
END:VEVENT
BEGIN:VTIMEZONE
TZID:America/Denver
X-LIC-LOCATION:America/Denver
BEGIN:DAYLIGHT
DTSTART:20250309T030000
TZOFFSETFROM:-0700
TZOFFSETTO:-0600
TZNAME:MDT
END:DAYLIGHT
END:VTIMEZONE
END:VCALENDAR