BEGIN:VCALENDAR
VERSION:2.0
PRODID:-//wp-events-plugin.com//7.2.3.1//EN
TZID:America/Denver
X-WR-TIMEZONE:America/Denver
BEGIN:VEVENT
UID:979@krystal93.com
DTSTART;TZID=America/Denver:20240503T120000
DTEND;TZID=America/Denver:20240503T130000
DTSTAMP:20240501T180658Z
URL:https://krystal93.com/events/c-rock-friday-freebie/
SUMMARY:C-Rock Friday Freebie
DESCRIPTION:Tune in for C-Rock 103.3’s Friday Freebie on May 3. You can w
 in tickets to see George Thorogood May 14 at the Paramount Theater in Denv
 er. Just listen over the noon hour this coming Friday. We’re ready to ro
 ck your world with live music with Friday Freebies on C-Rock 103.3.  
END:VEVENT
BEGIN:VTIMEZONE
TZID:America/Denver
X-LIC-LOCATION:America/Denver
BEGIN:DAYLIGHT
DTSTART:20240310T030000
TZOFFSETFROM:-0700
TZOFFSETTO:-0600
TZNAME:MDT
END:DAYLIGHT
END:VTIMEZONE
END:VCALENDAR