BEGIN:VCALENDAR
VERSION:2.0
PRODID:-//wp-events-plugin.com//7.2.3.1//EN
TZID:America/Denver
X-WR-TIMEZONE:America/Denver
BEGIN:VEVENT
UID:1530@krystal93.com
DTSTART;TZID=America/Denver;VALUE=DATE:20250620
DTEND;TZID=America/Denver;VALUE=DATE:20250621
DTSTAMP:20250602T024747Z
URL:https://krystal93.com/events/c-rock-friday-freebies-8/
SUMMARY:C-Rock Friday Freebies
DESCRIPTION:Listen to C-Rock every Friday morning for your chance to win gr
 eat tickets! In June we have tickets to see Earth Wind and Fire at Fiddler
 's Green\, CAKE at Red Rocks\, and Chicago at Fiddler's Green.
CATEGORIES:Tickets giveaway
END:VEVENT
BEGIN:VTIMEZONE
TZID:America/Denver
X-LIC-LOCATION:America/Denver
BEGIN:DAYLIGHT
DTSTART:20250309T030000
TZOFFSETFROM:-0700
TZOFFSETTO:-0600
TZNAME:MDT
END:DAYLIGHT
END:VTIMEZONE
END:VCALENDAR