BEGIN:VCALENDAR
VERSION:2.0
PRODID:-//wp-events-plugin.com//7.2.3.1//EN
TZID:America/Denver
X-WR-TIMEZONE:America/Denver
BEGIN:VEVENT
UID:922@krystal93.com
DTSTART;TZID=America/Denver:20240329T120000
DTEND;TZID=America/Denver:20240329T130000
DTSTAMP:20240301T042454Z
URL:https://krystal93.com/events/c-rock-joe-russos-almost-dead-tickets/
SUMMARY:C-Rock - Joe Russo's Almost Dead Tickets
DESCRIPTION:On March 29 we have tickets to see Joe Russo's Almost Dead on 
 June 1 at Red Rocks. Katrina and Fox are super excited to start giving awa
 y tickets... so tune in Fridays over the noon hour for your chance to win!
END:VEVENT
BEGIN:VTIMEZONE
TZID:America/Denver
X-LIC-LOCATION:America/Denver
BEGIN:DAYLIGHT
DTSTART:20240310T030000
TZOFFSETFROM:-0700
TZOFFSETTO:-0600
TZNAME:MDT
END:DAYLIGHT
END:VTIMEZONE
END:VCALENDAR