BEGIN:VCALENDAR
VERSION:2.0
PRODID:-//wp-events-plugin.com//7.2.3.1//EN
TZID:America/Denver
X-WR-TIMEZONE:America/Denver
BEGIN:VEVENT
UID:921@krystal93.com
DTSTART;TZID=America/Denver:20240315T120000
DTEND;TZID=America/Denver:20240315T130000
DTSTAMP:20240301T042406Z
URL:https://krystal93.com/events/c-rock-moe-tickets/
SUMMARY:C-Rock - moe Tickets
DESCRIPTION:Mark your calendars! C-Rock 103.3 will have its first giveaway 
 of our ticket season on March 16. Tune in over the noon hour on that Frida
 y to win tickets to see moe. at 10 Mile Music Hall on March 22nd. 
END:VEVENT
BEGIN:VTIMEZONE
TZID:America/Denver
X-LIC-LOCATION:America/Denver
BEGIN:DAYLIGHT
DTSTART:20240310T030000
TZOFFSETFROM:-0700
TZOFFSETTO:-0600
TZNAME:MDT
END:DAYLIGHT
END:VTIMEZONE
END:VCALENDAR