BEGIN:VCALENDAR
VERSION:2.0
PRODID:-//wp-events-plugin.com//7.2.3.1//EN
TZID:America/Denver
X-WR-TIMEZONE:America/Denver
BEGIN:VEVENT
UID:982@krystal93.com
DTSTART;TZID=America/Denver:20240531T120000
DTEND;TZID=America/Denver:20240531T130000
DTSTAMP:20240501T181133Z
URL:https://krystal93.com/events/c-rocks-friday-freebie-2/
SUMMARY:C-Rock's Friday Freebie
DESCRIPTION: C-Rock 103.3’s Friday Freebie on May 31. You can win tickets
  to see Big Head Todd &amp\; The Monsters at Red Rocks on June 8. Just lis
 ten over the noon hour this coming Friday. We’re ready to rock your worl
 d with live music with Friday Freebies on C-Rock 103.3.   
END:VEVENT
BEGIN:VTIMEZONE
TZID:America/Denver
X-LIC-LOCATION:America/Denver
BEGIN:DAYLIGHT
DTSTART:20240310T030000
TZOFFSETFROM:-0700
TZOFFSETTO:-0600
TZNAME:MDT
END:DAYLIGHT
END:VTIMEZONE
END:VCALENDAR