BEGIN:VCALENDAR
VERSION:2.0
PRODID:-//wp-events-plugin.com//7.2.3.1//EN
TZID:America/Denver
X-WR-TIMEZONE:America/Denver
BEGIN:VEVENT
UID:936@krystal93.com
DTSTART;TZID=America/Denver:20240414T200000
DTEND;TZID=America/Denver:20240414T230000
DTSTAMP:20240401T030142Z
URL:https://krystal93.com/events/california-honeydrops-10mmh-2/
SUMMARY:California Honeydrops -10MMH
DESCRIPTION:See The California Honedyrops at 10 Mile Music Hall in Frisco o
 n April 14\n\n\n\n\nDeftly navigating the confluence of prog rock\, livetr
 onica\, jazz\, &amp\; jam\, Papadosio’s appeal as a crossover act has am
 assed a rabid fan base across North America. Thanks to a steady stream of 
 innovative albums\, they’ve seen a decade and a half of consistent touri
 ng with hundreds of live recordings at the fingertips of every follower. T
 heir allure’s led to co-presenting massiveevents such as Resonance\, Sec
 ret Dreams\, Summer SEEquence\, and Subterranea Festival\, plus headline p
 lays at the legendary Red Rocks Amphitheatre.\nFrom their humble Midwest o
 rigins\, Papadosio's grassroots operation has grown to overflowing clubs a
 nd theaters nationwide\, cementing their reputation as a must-see act. Now
  based in Asheville\, NC\, the dynamic five-piece features rhythm expert M
 ike Healy on drums\, low end luminary Rob McConnell on bass\, multi-instru
 mentalist brothers Sam &amp\; Billy Brouse on keyboard/vocals\, and sage p
 roducer Anthony Thogmartin on guitar/vocals.\n\n\n\n\n
CATEGORIES:10 Mile Music Hall
END:VEVENT
BEGIN:VTIMEZONE
TZID:America/Denver
X-LIC-LOCATION:America/Denver
BEGIN:DAYLIGHT
DTSTART:20240310T030000
TZOFFSETFROM:-0700
TZOFFSETTO:-0600
TZNAME:MDT
END:DAYLIGHT
END:VTIMEZONE
END:VCALENDAR