BEGIN:VCALENDAR
VERSION:2.0
PRODID:-//wp-events-plugin.com//7.2.3.1//EN
TZID:America/Denver
X-WR-TIMEZONE:America/Denver
BEGIN:VEVENT
UID:910@krystal93.com
DTSTART;TZID=America/Denver:20240307T180000
DTEND;TZID=America/Denver:20240307T210000
DTSTAMP:20240301T040245Z
URL:https://krystal93.com/events/candidate-forum-blue-river/
SUMMARY:Candidate Forum - Blue River
DESCRIPTION:Krystal Media and the Summit Association of Realtors are proud 
 sponsors of the Candidate Forums for Breckenridge and Blue River’s  may
 oral and town council races! Blue River’s forum is March 7. On March 7\,
  2024\, at 6pm  the Candidates for the 2024 Election will gather at Color
 ado Mountain College to answer your questions and present their reasons yo
 u should vote for them in the election.  \n\nThese are open to the public
 ! The Summit Chamber\, the Summit Alliance of Vacation Rental Managers and
  the Summit County Builder’s Association are also sponsors. 
END:VEVENT
BEGIN:VTIMEZONE
TZID:America/Denver
X-LIC-LOCATION:America/Denver
BEGIN:STANDARD
DTSTART:20231105T010000
TZOFFSETFROM:-0600
TZOFFSETTO:-0700
TZNAME:MST
END:STANDARD
END:VTIMEZONE
END:VCALENDAR