BEGIN:VCALENDAR
VERSION:2.0
PRODID:-//wp-events-plugin.com//7.2.3.1//EN
TZID:America/Denver
X-WR-TIMEZONE:America/Denver
BEGIN:VEVENT
UID:909@krystal93.com
DTSTART;TZID=America/Denver:20240306T170000
DTEND;TZID=America/Denver:20240306T200000
DTSTAMP:20240301T040058Z
URL:https://krystal93.com/events/candidate-forum-breckenridge/
SUMMARY:Candidate Forum - Breckenridge
DESCRIPTION:Krystal Media and the Summit Association of Realtors are proud 
 sponsors of the Candidate Forums for Breckenridge and Blue River’s  may
 oral and town council races! Our own Phil Lindeman\, Krystal 93 News Direc
 tor\, will moderate the Breckenridge forum with candidates Wednesday\, Mar
 ch 6 at the Town Council Chambers. Meet and greet is at 5:00 and the forum
  starts at 5:30pm. Blue River’s forum is March 7. These are open to the 
 public! The Summit Chamber\, the Summit Alliance of Vacation Rental Manage
 rs and the Summit County Builder’s Association are also sponsors. Krysta
 l Media Supports the Summit. 
END:VEVENT
BEGIN:VTIMEZONE
TZID:America/Denver
X-LIC-LOCATION:America/Denver
BEGIN:STANDARD
DTSTART:20231105T010000
TZOFFSETFROM:-0600
TZOFFSETTO:-0700
TZNAME:MST
END:STANDARD
END:VTIMEZONE
END:VCALENDAR