BEGIN:VCALENDAR
VERSION:2.0
PRODID:-//wp-events-plugin.com//7.2.3.1//EN
TZID:America/Denver
X-WR-TIMEZONE:America/Denver
BEGIN:VEVENT
UID:1745@krystal93.com
DTSTART;TZID=America/Denver:20251108T100000
DTEND;TZID=America/Denver:20251108T120000
DTSTAMP:20251103T091453Z
URL:https://krystal93.com/events/candle-painting-party-12-18/
SUMMARY:Candle Painting Party 12-18
DESCRIPTION:SATURDAY\, NOVEMBER 8\, 2025\n\nCandle Painting Party | Ages 12
 -18 (Bilingual)\n\n10:00 am - 12:00 pm / Silverthorne\n\nJoin the HYPE at 
 our fun and hands-on candle painting party. This event is intended for Sum
 mit County residents only. Ages 12-18. Event Facilitated in English and Sp
 anish.
CATEGORIES:Building Hope Summit County
END:VEVENT
BEGIN:VTIMEZONE
TZID:America/Denver
X-LIC-LOCATION:America/Denver
BEGIN:STANDARD
DTSTART:20251102T010000
TZOFFSETFROM:-0600
TZOFFSETTO:-0700
TZNAME:MST
END:STANDARD
END:VTIMEZONE
END:VCALENDAR