BEGIN:VCALENDAR
VERSION:2.0
PRODID:-//wp-events-plugin.com//7.2.3.1//EN
TZID:America/Denver
X-WR-TIMEZONE:America/Denver
BEGIN:VEVENT
UID:1101@krystal93.com
DTSTART;TZID=America/Denver:20240823T180000
DTEND;TZID=America/Denver:20240823T200000
DTSTAMP:20240805T165107Z
URL:https://krystal93.com/events/carlos-barata-mountain-tour-at-bluebird-m
 arket/
SUMMARY:Carlos Barata MOUNTAIN TOUR at Bluebird Market
DESCRIPTION:Catch Carlos Barata at Bluebird Market\, August 23\, 6-8pm. No 
 cover.\n\nCarlos Barata is a Portuguese-American\, folk-rock singer-songwr
 iter and storyteller originally from Pennsylvania\, backed by New Jersey-n
 ative percussionist\, Brett Ross. Marked by purposeful simplicity and sinc
 ere vulnerability\, they deliver a sweet\, intimate and soulful style that
 's been shared from coast-to-coast\, supporting artists like Langhorne Sli
 m\, Matt Costa and Dispatch.\n\nListen: imwithcarlos.bandcamp.com\nInstag
 ram &amp\; Venmo: @imwithcarlos
CATEGORIES:Concerts,Town of Silverthorne
LOCATION:Bluebird Market\, 325 Blue River Pkwy\, Silverthorne\, CO\, 80498\
 , United States
X-APPLE-STRUCTURED-LOCATION;VALUE=URI;X-ADDRESS=325 Blue River Pkwy\, Silve
 rthorne\, CO\, 80498\, United States;X-APPLE-RADIUS=100;X-TITLE=Bluebird M
 arket:geo:0,0
END:VEVENT
BEGIN:VTIMEZONE
TZID:America/Denver
X-LIC-LOCATION:America/Denver
BEGIN:DAYLIGHT
DTSTART:20240310T030000
TZOFFSETFROM:-0700
TZOFFSETTO:-0600
TZNAME:MDT
END:DAYLIGHT
END:VTIMEZONE
END:VCALENDAR