BEGIN:VCALENDAR
VERSION:2.0
PRODID:-//wp-events-plugin.com//7.2.3.1//EN
TZID:America/Denver
X-WR-TIMEZONE:America/Denver
BEGIN:VEVENT
UID:1100@krystal93.com
DTSTART;TZID=America/Denver:20240822T210000
DTEND;TZID=America/Denver:20240822T230000
DTSTAMP:20240805T165014Z
URL:https://krystal93.com/events/carlos-barata-mountain-tour-at-rmu-breck/
SUMMARY:Carlos Barata MOUNTAIN TOUR at RMU Breck
DESCRIPTION:Catch Carlos Barata's Mountain Tour at RMU Breck\, August 22\, 
 9-11pm. No cover.\n\nCarlos Barata is a Portuguese-American\, folk-rock si
 nger-songwriter and storyteller originally from Pennsylvania\, backed by N
 ew Jersey-native percussionist\, Brett Ross. Marked by purposeful simplici
 ty and sincere vulnerability\, they deliver a sweet\, intimate and soulful
  style that's been shared from coast-to-coast\, supporting artists like La
 nghorne Slim\, Matt Costa and Dispatch.\n\nListen: imwithcarlos.bandcamp.c
 om / Instagram &amp\; Venmo: @imwithcarlos
CATEGORIES:Breckenridge Creative Arts,Concerts
END:VEVENT
BEGIN:VTIMEZONE
TZID:America/Denver
X-LIC-LOCATION:America/Denver
BEGIN:DAYLIGHT
DTSTART:20240310T030000
TZOFFSETFROM:-0700
TZOFFSETTO:-0600
TZNAME:MDT
END:DAYLIGHT
END:VTIMEZONE
END:VCALENDAR