BEGIN:VCALENDAR
VERSION:2.0
PRODID:-//wp-events-plugin.com//7.2.3.1//EN
TZID:America/Denver
X-WR-TIMEZONE:America/Denver
BEGIN:VEVENT
UID:1482@krystal93.com
DTSTART;TZID=America/Denver:20250510T100000
DTEND;TZID=America/Denver:20250510T120000
DTSTAMP:20250501T232419Z
URL:https://krystal93.com/events/ceramic-family-time/
SUMMARY:Ceramic Family Time
DESCRIPTION:SATURDAY\, MAY 10\, 2025 CERAMIC FAMILY TIME\n\n10:00 am - 12:0
 0 pm / Silverthorne\n\nJoin us and Art Spot to roll clay into coils to bui
 ld a small desk planter pot. You can add a little texture with stamps and 
 tools. All the levels are welcome. This event is intended for Summit Count
 y residents only Event Facilitated in English and Spanish. Go to buildingh
 opesummit.org for more details and to sign up. Krystal Media Supports the 
 Summit.
CATEGORIES:Building Hope Summit County
END:VEVENT
BEGIN:VTIMEZONE
TZID:America/Denver
X-LIC-LOCATION:America/Denver
BEGIN:DAYLIGHT
DTSTART:20250309T030000
TZOFFSETFROM:-0700
TZOFFSETTO:-0600
TZNAME:MDT
END:DAYLIGHT
END:VTIMEZONE
END:VCALENDAR