BEGIN:VCALENDAR
VERSION:2.0
PRODID:-//wp-events-plugin.com//7.2.3.1//EN
TZID:America/Denver
X-WR-TIMEZONE:America/Denver
BEGIN:VEVENT
UID:794@krystal93.com
DTSTART;TZID=America/Denver:20231222T120000
DTEND;TZID=America/Denver:20231222T130000
DTSTAMP:20231213T225616Z
URL:https://krystal93.com/events/christmas-music-box-trivia-2/
SUMMARY:Christmas Music Box Trivia
DESCRIPTION:Join us  Fridays  over the noon hour for The Christmas Music 
 Box Trivia contest from Stork and Bear Company and Around The World Toys.
   Store owner Mary Elaine will give you a clue about a classic toy\, and 
 if you know what it is\, you could win a gift certificate to her beautiful
  shops on Main Street Frisco: Stork and Bear Company and Around The World 
 Toys.  Listen Friday during the noon hour.  
END:VEVENT
BEGIN:VTIMEZONE
TZID:America/Denver
X-LIC-LOCATION:America/Denver
BEGIN:STANDARD
DTSTART:20231105T010000
TZOFFSETFROM:-0600
TZOFFSETTO:-0700
TZNAME:MST
END:STANDARD
END:VTIMEZONE
END:VCALENDAR