BEGIN:VCALENDAR
VERSION:2.0
PRODID:-//wp-events-plugin.com//7.2.3.1//EN
TZID:America/Denver
X-WR-TIMEZONE:America/Denver
BEGIN:VEVENT
UID:1887@krystal93.com
DTSTART;TZID=America/Denver:20260425T100000
DTEND;TZID=America/Denver:20260425T170000
DTSTAMP:20260327T235055Z
URL:https://krystal93.com/events/colorado-cosmic-convention/
SUMMARY:Colorado Cosmic Convention
DESCRIPTION:Event Description *: Colorado Cosmic Convention (CCC) is the Pr
 emier Comic &amp\; Cos-Play 2-day festival\, family event for all ages t
 o honor all genres of pop culture in Colorado. This year featuring celebri
 ty guests from The Sopranos\, Goodfellas\, One Piece and more!!! Also join
  our Cosplay contest\, card tournaments\, Atashi Car Show\, so much to do 
 we need two days!!\nEvent Start Date *: 2026-04-25\nEvent End Date *: 202
 6-04-25\nEvent Time *: 10:00\nIf this is a repeating event\, please provi
 de information on the date(s) it repeats.: Sun 26 Apr 2026 10:00A - 05:00P
 \nEvent Website *: https://coloradocosmiccon.com/\nEvent Location *: Norr
 is Penrose Events Center\nStreet Address *: 1045 Lower Gold camp Road\nCi
 ty *: Colorado Springs
END:VEVENT
BEGIN:VTIMEZONE
TZID:America/Denver
X-LIC-LOCATION:America/Denver
BEGIN:DAYLIGHT
DTSTART:20260308T030000
TZOFFSETFROM:-0700
TZOFFSETTO:-0600
TZNAME:MDT
END:DAYLIGHT
END:VTIMEZONE
END:VCALENDAR