BEGIN:VCALENDAR
VERSION:2.0
PRODID:-//wp-events-plugin.com//7.2.3.1//EN
TZID:America/Denver
X-WR-TIMEZONE:America/Denver
BEGIN:VEVENT
UID:1846@krystal93.com
DTSTART;TZID=America/Denver:20260227T080000
DTEND;TZID=America/Denver:20260227T163000
DTSTAMP:20260218T233712Z
URL:https://krystal93.com/events/common-spirit-living-well-planning-ahead/
SUMMARY:Common Spirit: Living Well & Planning Ahead
DESCRIPTION:Join Common Spirit St. Anthony Summit Health Foundation Friday 
 February 27th for a free educational session on living well and planning 
 ahead.  Topics discussed will be estate planning basics\, and creating a 
 legacy with Free Will.  Friday February 27th 8am – 4:30pm CMC Breck \, 
 registration is free space is limited. Refreshments provided.  Here's the
  link to register: \n\nhttps://give.commonspirit.org/stanthonysummithealt
 hfoundation/registration
CATEGORIES:Family Event
END:VEVENT
BEGIN:VTIMEZONE
TZID:America/Denver
X-LIC-LOCATION:America/Denver
BEGIN:STANDARD
DTSTART:20251102T010000
TZOFFSETFROM:-0600
TZOFFSETTO:-0700
TZNAME:MST
END:STANDARD
END:VTIMEZONE
END:VCALENDAR