BEGIN:VCALENDAR
VERSION:2.0
PRODID:-//wp-events-plugin.com//7.2.3.1//EN
TZID:America/Denver
X-WR-TIMEZONE:America/Denver
BEGIN:VEVENT
UID:1725@krystal93.com
DTSTART;TZID=America/Denver:20251003T080000
DTEND;TZID=America/Denver:20251003T100000
DTSTAMP:20250929T161544Z
URL:https://krystal93.com/events/coo-ski-area-summit/
SUMMARY:COO Ski Area Summit
DESCRIPTION:\n\n\n2025 COO Ski Area Summit\n\n\n\n\n\n\n\nDate and Time\nFr
 iday Oct 3\, 2025\n8:00 AM - 11:00 AM MDT\n\n\nFriday\, October 3rd 2025\n
 Doors at 7:30 am\nShow starts at 8:00 am\n\n\n\n\nLocation\nKeystone Confe
 rence Center or Virtual Viewing options\n633 Tennis Club Road\nDillon\, CO
  80435\n\n\n\nFees/Admission\nReach out to angelique@summitchamber.org or 
 alex@summitchamber.org for member pricing!\n$120 General Admission pricing
  while supplies last.\n\n\n\nWebsite\nThe Ski Area COO Summit\n\n\n\n\n
END:VEVENT
BEGIN:VTIMEZONE
TZID:America/Denver
X-LIC-LOCATION:America/Denver
BEGIN:DAYLIGHT
DTSTART:20250309T030000
TZOFFSETFROM:-0700
TZOFFSETTO:-0600
TZNAME:MDT
END:DAYLIGHT
END:VTIMEZONE
END:VCALENDAR