BEGIN:VCALENDAR
VERSION:2.0
PRODID:-//wp-events-plugin.com//7.2.3.1//EN
TZID:America/Denver
X-WR-TIMEZONE:America/Denver
BEGIN:VEVENT
UID:549@krystal93.com
DTSTART;TZID=America/Denver:20230507T103000
DTEND;TZID=America/Denver:20230507T123000
DTSTAMP:20230430T225015Z
URL:https://krystal93.com/events/cooking-at-soupz-on/
SUMMARY:Cooking at Soupz On
DESCRIPTION:5/7 COOKING AT SOUPZ ON \n\nWhether you are a master chef or j
 ust looking to pick up a new recipe - join us at Soupz On in Breckenridge 
 for a guided cooking class led by owner Stacy Hill. Participation limited 
 to ages 15+. www.buildinghopesummit.org/events Facilitated in English. \n
 \nTime: 10:30am-12:30pm Location: Breckenridge \n\nwww.buildinghopesummit
 .org/events \n\n&nbsp\;
CATEGORIES:Building Hope Summit County
END:VEVENT
BEGIN:VTIMEZONE
TZID:America/Denver
X-LIC-LOCATION:America/Denver
BEGIN:DAYLIGHT
DTSTART:20230312T030000
TZOFFSETFROM:-0700
TZOFFSETTO:-0600
TZNAME:MDT
END:DAYLIGHT
END:VTIMEZONE
END:VCALENDAR