BEGIN:VCALENDAR
VERSION:2.0
PRODID:-//wp-events-plugin.com//7.2.3.1//EN
TZID:America/Denver
X-WR-TIMEZONE:America/Denver
BEGIN:VEVENT
UID:1678@krystal93.com
DTSTART;TZID=America/Denver:20250809T140000
DTEND;TZID=America/Denver:20250809T193000
DTSTAMP:20250804T202554Z
URL:https://krystal93.com/events/copper-country-music-fest/
SUMMARY:Copper Country Music Fest
DESCRIPTION:Copper Mountain invites you to the Copper Country Music fest fo
 r FREE LIVE MUSIC on Saturday August 9. You’ll see awesome country artis
 ts like Ashley McBryde\, Bonnie and Taylor Sims\, and Marfa – all at Eag
 les Landing. Activities start at 1pm Saturday August 9 with a Cornhole tou
 rnament. Live music starts at 2pm and goes until 7:30pm. Go to CopperColor
 ado-.com for more information.  
CATEGORIES:Keystone
END:VEVENT
BEGIN:VTIMEZONE
TZID:America/Denver
X-LIC-LOCATION:America/Denver
BEGIN:DAYLIGHT
DTSTART:20250309T030000
TZOFFSETFROM:-0700
TZOFFSETTO:-0600
TZNAME:MDT
END:DAYLIGHT
END:VTIMEZONE
END:VCALENDAR