BEGIN:VCALENDAR
VERSION:2.0
PRODID:-//wp-events-plugin.com//7.2.3.1//EN
TZID:America/Denver
X-WR-TIMEZONE:America/Denver
BEGIN:VEVENT
UID:1491@krystal93.com
DTSTART;TZID=America/Denver;VALUE=DATE:20250503
DTEND;TZID=America/Denver;VALUE=DATE:20250504
DTSTAMP:20250501T233318Z
URL:https://krystal93.com/events/copper-mountain-slush-rush/
SUMMARY:Copper Mountain Slush Rush
DESCRIPTION:Get ready for the Slush Rush May 3 at Copper Mountain. Teams o
 f three take off in a wild relay race... Super Pipe\, slalom and cross-cou
 rse... plus the pond skim!  There’ll be big prizes like season passes\,
  GoPros and more. Then a free concert from El Paso Lasso. That’s tomorro
 w. Go to CopperColorado.com to register your team! Krystal Media Supports
  the Summit. 
CATEGORIES:Family Event
END:VEVENT
BEGIN:VTIMEZONE
TZID:America/Denver
X-LIC-LOCATION:America/Denver
BEGIN:DAYLIGHT
DTSTART:20250309T030000
TZOFFSETFROM:-0700
TZOFFSETTO:-0600
TZNAME:MDT
END:DAYLIGHT
END:VTIMEZONE
END:VCALENDAR