BEGIN:VCALENDAR
VERSION:2.0
PRODID:-//wp-events-plugin.com//7.2.3.1//EN
TZID:America/Denver
X-WR-TIMEZONE:America/Denver
BEGIN:VEVENT
UID:1831@krystal93.com
DTSTART;TZID=America/Denver:20260220T190000
DTEND;TZID=America/Denver:20260220T220000
DTSTAMP:20260203T033918Z
URL:https://krystal93.com/events/country-western-dance-2/
SUMMARY:Country Western Dance
DESCRIPTION:PUT ON YOUR COWBOY BOOTS AND JOIN THE TOWN OF SILVERTHORNE FOR 
 THE COUNTRY WESTERN DANCE AT THE SILVERTHORNE PAVILION FEBRUARY 20. ALL LE
 VELS ARE WELCOME TO ATTEND. DANCE LESSONS BEGIN AT 7 P.M. AND OPEN DANCING
  STARTS AT 8 P.M. ENTRY IS $10 PER PERSON. SEE YOU AT THE SLVERTHORNE PA
 VILION FOR THE COUNTRY WESTERN DANCE! LEARN MORE AT SILVERTHORNE.ORG. 
END:VEVENT
BEGIN:VTIMEZONE
TZID:America/Denver
X-LIC-LOCATION:America/Denver
BEGIN:STANDARD
DTSTART:20251102T010000
TZOFFSETFROM:-0600
TZOFFSETTO:-0700
TZNAME:MST
END:STANDARD
END:VTIMEZONE
END:VCALENDAR