BEGIN:VCALENDAR
VERSION:2.0
PRODID:-//wp-events-plugin.com//7.2.3.1//EN
TZID:America/Denver
X-WR-TIMEZONE:America/Denver
BEGIN:VEVENT
UID:1808@krystal93.com
DTSTART;TZID=America/Denver:20260116T190000
DTEND;TZID=America/Denver:20260116T220000
DTSTAMP:20260102T031046Z
URL:https://krystal93.com/events/country-western-dance/
SUMMARY:Country Western Dance
DESCRIPTION:Put on your cowboy boots and join the Town of Silverthorne for 
 the Country Western Dance at the Silverthorne Pavilion\, Friday\, January 
 16. All levels are welcome. Lessons begin at 7pm and open dancing starts a
 t 8PM. 10 Dollars a person – see you at the Silverthorne Pavilion for th
 e Country Western Dance. More info at Silverthorne.org.  
CATEGORIES:Town of Silverthorne
END:VEVENT
BEGIN:VTIMEZONE
TZID:America/Denver
X-LIC-LOCATION:America/Denver
BEGIN:STANDARD
DTSTART:20251102T010000
TZOFFSETFROM:-0600
TZOFFSETTO:-0700
TZNAME:MST
END:STANDARD
END:VTIMEZONE
END:VCALENDAR