BEGIN:VCALENDAR
VERSION:2.0
PRODID:-//wp-events-plugin.com//7.2.3.1//EN
TZID:America/Denver
X-WR-TIMEZONE:America/Denver
BEGIN:VEVENT
UID:1782@krystal93.com
DTSTART;TZID=America/Denver:20260124T143000
DTEND;TZID=America/Denver:20260124T160000
DTSTAMP:20260102T024744Z
URL:https://krystal93.com/events/countryboy-mine-day/
SUMMARY:Countryboy Mine Day
DESCRIPTION:SATURDAY\, JANUARY 24\, 2026\nCountry Boy Mine Day | Ages 12-18
 \n2:30 pm - 4:00 pm / Breckenridge\nJoin the HYPE and ECHO adventures for 
 big winter\nenergy\, adventure\, and time to hang with friends in\na setti
 ng you don’t get to every day. There will be a\nMonster Truck Sleigh Rid
 e\, extreme sledding\, tubing\,\nfeeding the donkeys\, and a quick\, short
  walk into\nthe mine.\nThis event is intended for Summit Count\n Go to Bui
 ldingHopeSummit.org to sign up.
CATEGORIES:Building Hope Summit County
END:VEVENT
BEGIN:VTIMEZONE
TZID:America/Denver
X-LIC-LOCATION:America/Denver
BEGIN:STANDARD
DTSTART:20251102T010000
TZOFFSETFROM:-0600
TZOFFSETTO:-0700
TZNAME:MST
END:STANDARD
END:VTIMEZONE
END:VCALENDAR