BEGIN:VCALENDAR
VERSION:2.0
PRODID:-//wp-events-plugin.com//7.2.3.1//EN
TZID:America/Denver
X-WR-TIMEZONE:America/Denver
BEGIN:VEVENT
UID:590@krystal93.com
DTSTART;TZID=America/Denver;VALUE=DATE:20230520
DTEND;TZID=America/Denver;VALUE=DATE:20230521
DTSTAMP:20230511T130042Z
URL:https://krystal93.com/events/countywide-cleanup-day-recycling/
SUMMARY:Countywide Cleanup Day & Recycling
DESCRIPTION:What: Countywide Town Cleanup Day \n\nWhen: Saturday\, May 20
  \n\nWhere: Blue River\, Breck\, Dillon\, Frisco and Silverthorne \n\nDe
 tails: Calling all volunteers to help collect a season’s worth of lost m
 ittens and misplaced treasures for the Annual Countywide Town Cleanup Day.
  Volunteers should check in their respective towns at 9:00am. To clean up 
 in Silverthorne gather at Rainbow Park – Frisco volunteers will meet at 
 the Historic Park\, Dillon’s clean up crew will meet at Town Hall\, Blue
  River also at its town hall\, and Breckenridge volunteers will meet at th
 e Riverwalk Center. There’ll be a volunteer thank you picnic after clean
 up. Contact your town website for more details. \n\nPLUS:  Free Annual H
 ard to Recycle Event\n\nWhen: As part of Countywide Town Cleanup Day on Sa
 turday\, May 20\, 8:00am – 2:00pm\nWhere: Summit Stage Bus Barn at the C
 ounty Commons  \n\nDetails: You can bring your “hard to recycle” ite
 ms to the Summit Stage Bus Barn – things like gently used clothing\, hou
 sehold hazardous waste\, pharmaceuticals and electronics. Countywide Clean
 up day is sponsored by the towns of Summit County\, Summit County Governme
 nt\, The Summit County Resource Allocation Park and the High Country Conse
 rvation Center. Krystal Media Supports the Summit. 
END:VEVENT
BEGIN:VTIMEZONE
TZID:America/Denver
X-LIC-LOCATION:America/Denver
BEGIN:DAYLIGHT
DTSTART:20230312T030000
TZOFFSETFROM:-0700
TZOFFSETTO:-0600
TZNAME:MDT
END:DAYLIGHT
END:VTIMEZONE
END:VCALENDAR