BEGIN:VCALENDAR
VERSION:2.0
PRODID:-//wp-events-plugin.com//7.2.3.1//EN
TZID:America/Denver
X-WR-TIMEZONE:America/Denver
BEGIN:VEVENT
UID:432@krystal93.com
DTSTART;TZID=America/Denver:20230204T100000
DTEND;TZID=America/Denver:20230204T120000
DTSTAMP:20230131T191001Z
URL:https://krystal93.com/events/cross-country-skiing-12-18/
SUMMARY:Cross Country Skiing (12-18)
DESCRIPTION:CROSS COUNTRY SKIING AGES 12-18 An experience in the snow!! Cro
 ss Country Skiing is a fun way to discover the nature that surrounds us in
  a different way. Open to all skill levels. Event Facilitated in English. 
 Go to https://buildinghopesummit.org/ for details. \n\n&nbsp\;\n\nFeb 4: 
 Time: 10am-noon Location: Frisco  
CATEGORIES:Building Hope Summit County
END:VEVENT
BEGIN:VTIMEZONE
TZID:America/Denver
X-LIC-LOCATION:America/Denver
BEGIN:STANDARD
DTSTART:20221106T010000
TZOFFSETFROM:-0600
TZOFFSETTO:-0700
TZNAME:MST
END:STANDARD
END:VTIMEZONE
END:VCALENDAR