BEGIN:VCALENDAR
VERSION:2.0
PRODID:-//wp-events-plugin.com//7.2.3.1//EN
TZID:America/Denver
X-WR-TIMEZONE:America/Denver
BEGIN:VEVENT
UID:1894@krystal93.com
DTSTART;TZID=America/Denver:20260418T100000
DTEND;TZID=America/Denver:20260418T120000
DTSTAMP:20260329T133615Z
URL:https://krystal93.com/events/crystal-suncatcher-workshop/
SUMMARY:Crystal Suncatcher Workshop
DESCRIPTION:SATURDAY\, APRIL 18\, 2026\nCrystal Suncatcher Workshop\n10:00a
 m-12:00pm/ Silverthorne\nWe invite you to a morning of connection and crea
 tivity\nto design your own suncatcher using natural crystals and\ngems. As
  we string together pieces that capture the light\nto brighten your home\,
  we will create new bonds with\nmembers of our Summit County community.\nT
 his event is intended for Summit County residents only.\nEvent Facilitated
  in English and Spanish.\nCONTACT BuildingHopeSummit.org for more informat
 ion and to sign up.
CATEGORIES:Building Hope Summit County
END:VEVENT
BEGIN:VTIMEZONE
TZID:America/Denver
X-LIC-LOCATION:America/Denver
BEGIN:DAYLIGHT
DTSTART:20260308T030000
TZOFFSETFROM:-0700
TZOFFSETTO:-0600
TZNAME:MDT
END:DAYLIGHT
END:VTIMEZONE
END:VCALENDAR